BEGIN:VCALENDAR
VERSION:2.0
PRODID:-//Tina Marie    Yoga Gypsy - ECPv5.16.1//NONSGML v1.0//EN
CALSCALE:GREGORIAN
METHOD:PUBLISH
X-WR-CALNAME:Tina Marie    Yoga Gypsy
X-ORIGINAL-URL:https://yogagypsylounge.com
X-WR-CALDESC:Events for Tina Marie    Yoga Gypsy
BEGIN:VTIMEZONE
TZID:America/New_York
BEGIN:DAYLIGHT
TZOFFSETFROM:-0500
TZOFFSETTO:-0400
TZNAME:EDT
DTSTART:20250309T070000
END:DAYLIGHT
BEGIN:STANDARD
TZOFFSETFROM:-0400
TZOFFSETTO:-0500
TZNAME:EST
DTSTART:20251102T060000
END:STANDARD
END:VTIMEZONE
BEGIN:VEVENT
DTSTART;TZID=America/New_York:20250722T103000
DTEND;TZID=America/New_York:20250722T113000
DTSTAMP:20260425T085553
CREATED:20250626T190525Z
LAST-MODIFIED:20250626T190525Z
UID:4253-1753180200-1753183800@yogagypsylounge.com
SUMMARY:Transformative Flow
DESCRIPTION:Building endurance\,core strength and balance\,this yoga flow creates a head to toe workout. \nDeep stretching\,pilates inspired movements and strength training using weights will tone and transform the body and mind. \nSome exercise experience required. \nProps such as blocks\,bolsters\, stretch bands and light hand weights may be used.Dont forget your towel\, water and  get ready to move! \n\n\n 
URL:https://yogagypsylounge.com/event/transformative-flow-8/
LOCATION:Black Sheep Yoga\, 129 N Main Street\, Mocksville\, NC\, 27028\, United States
END:VEVENT
BEGIN:VEVENT
DTSTART;TZID=America/New_York:20250722T123000
DTEND;TZID=America/New_York:20250722T133000
DTSTAMP:20260425T085553
CREATED:20250626T193149Z
LAST-MODIFIED:20250626T193149Z
UID:4277-1753187400-1753191000@yogagypsylounge.com
SUMMARY:Private Class
DESCRIPTION:If you know of any community that is in need of yoga but can not access or afford it\,please reach out to Give Yoga NC. \n 
URL:https://yogagypsylounge.com/event/private-class-22/
LOCATION:NC
END:VEVENT
END:VCALENDAR