BEGIN:VCALENDAR
VERSION:2.0
PRODID:-//Tina Marie    Yoga Gypsy - ECPv5.16.1//NONSGML v1.0//EN
CALSCALE:GREGORIAN
METHOD:PUBLISH
X-WR-CALNAME:Tina Marie    Yoga Gypsy
X-ORIGINAL-URL:https://yogagypsylounge.com
X-WR-CALDESC:Events for Tina Marie    Yoga Gypsy
BEGIN:VTIMEZONE
TZID:America/New_York
BEGIN:DAYLIGHT
TZOFFSETFROM:-0500
TZOFFSETTO:-0400
TZNAME:EDT
DTSTART:20240310T070000
END:DAYLIGHT
BEGIN:STANDARD
TZOFFSETFROM:-0400
TZOFFSETTO:-0500
TZNAME:EST
DTSTART:20241103T060000
END:STANDARD
END:VTIMEZONE
BEGIN:VEVENT
DTSTART;TZID=America/New_York:20241012T100000
DTEND;TZID=America/New_York:20241012T102500
DTSTAMP:20260423T093313
CREATED:20240922T202751Z
LAST-MODIFIED:20241012T105936Z
UID:3542-1728727200-1728728700@yogagypsylounge.com
SUMMARY:NO YOGA TODAY
DESCRIPTION:
URL:https://yogagypsylounge.com/event/mindful-morning-yoga-50/
LOCATION:Curves\, 603 N Main St\, Mooresville\, NC\, 28115\, United States
END:VEVENT
END:VCALENDAR