BEGIN:VCALENDAR
VERSION:2.0
PRODID:-//Tina Marie    Yoga Gypsy - ECPv5.16.1//NONSGML v1.0//EN
CALSCALE:GREGORIAN
METHOD:PUBLISH
X-WR-CALNAME:Tina Marie    Yoga Gypsy
X-ORIGINAL-URL:https://yogagypsylounge.com
X-WR-CALDESC:Events for Tina Marie    Yoga Gypsy
BEGIN:VTIMEZONE
TZID:America/New_York
BEGIN:DAYLIGHT
TZOFFSETFROM:-0500
TZOFFSETTO:-0400
TZNAME:EDT
DTSTART:20240310T070000
END:DAYLIGHT
BEGIN:STANDARD
TZOFFSETFROM:-0400
TZOFFSETTO:-0500
TZNAME:EST
DTSTART:20241103T060000
END:STANDARD
END:VTIMEZONE
BEGIN:VEVENT
DTSTART;TZID=America/New_York:20240925T084500
DTEND;TZID=America/New_York:20240925T094500
DTSTAMP:20260424T161014
CREATED:20240825T191807Z
LAST-MODIFIED:20240825T191807Z
UID:3408-1727253900-1727257500@yogagypsylounge.com
SUMMARY:ZOOM Chair Yoga
DESCRIPTION:Last ZOOM class for the month of SEPTEMBER !\nEvery Wednesday morning well move\, stretch\, strengthen\, breath and laugh our way through a  chair yoga class.\nIf you can not join in LIVE a recording of class can be sent to you and practice when you can.\nMake sure you have your props near by. A block\, strap\, set of light weights and tennis is all you need. Feel free to be creative with props\, no need to go out and buy them.Even if you don’t have props all can join in.\nOnce payment is received a link for class will be sent to you.\nPayments VENMO\,ZELLE\,CASH OR CHECK\nFeel free to call \,message or email me for more info or to register for class. \nSign up now for October’s ZOOM Chair Yoga classes.
URL:https://yogagypsylounge.com/event/zoom-chair-yoga-167/
LOCATION:ZOOM
END:VEVENT
BEGIN:VEVENT
DTSTART;TZID=America/New_York:20240925T130000
DTEND;TZID=America/New_York:20240925T140000
DTSTAMP:20260424T161014
CREATED:20240825T193302Z
LAST-MODIFIED:20240826T184453Z
UID:3418-1727269200-1727272800@yogagypsylounge.com
SUMMARY:Restorative Yoga
DESCRIPTION:LAST ALL LEVELS CLASS OF THE MONTH IS RESTORATIVE YOGA! \nBRING YOUR PILLOWS\,BLANKETS AND/OR BOLSTERS \n  \nThis class will be done entirely on the floor.Using props such as blankets\,pillows\,bolsters and blocks. We’ll find our way into relaxing postures finding stillness  & sitting in each pose for several minutes. \nThis class is a great reset or end of the month let go! Tapping into our nervous system we will  relax the mind and body. \nBring your own mat\,any yoga props you may have \,dress in comfortable clothes and a bottle of water. \nTHIS CLASS IS AT THE WEST BRANCH & FREE !
URL:https://yogagypsylounge.com/event/all-levels-yoga-13/
LOCATION:West Branch Mooresville Library\, 614 Brawley School Road\, Mooresville\, NC\, 28117\, United States
END:VEVENT
END:VCALENDAR