BEGIN:VCALENDAR
VERSION:2.0
PRODID:-//Tina Marie    Yoga Gypsy - ECPv5.16.1//NONSGML v1.0//EN
CALSCALE:GREGORIAN
METHOD:PUBLISH
X-WR-CALNAME:Tina Marie    Yoga Gypsy
X-ORIGINAL-URL:https://yogagypsylounge.com
X-WR-CALDESC:Events for Tina Marie    Yoga Gypsy
BEGIN:VTIMEZONE
TZID:America/New_York
BEGIN:DAYLIGHT
TZOFFSETFROM:-0500
TZOFFSETTO:-0400
TZNAME:EDT
DTSTART:20240310T070000
END:DAYLIGHT
BEGIN:STANDARD
TZOFFSETFROM:-0400
TZOFFSETTO:-0500
TZNAME:EST
DTSTART:20241103T060000
END:STANDARD
END:VTIMEZONE
BEGIN:VEVENT
DTSTART;TZID=America/New_York:20240911T084500
DTEND;TZID=America/New_York:20240911T094500
DTSTAMP:20260425T181354
CREATED:20240825T191302Z
LAST-MODIFIED:20240825T191302Z
UID:3404-1726044300-1726047900@yogagypsylounge.com
SUMMARY:ZOOM Chair Yoga
DESCRIPTION:Join me in a chair yoga class from the comfort of your own home.Make a commitment to yourself and health\, join in for the month of SEPTEMBER !Every Wednesday morning well move\, stretch\, strengthen\, breath and laugh our way through a  chair yoga class.If you can not join in LIVE a recording of class can be sent to you and practice when you can.Make sure you have your props near by. A block\, strap\, set of light weights and tennis is all you need. Feel free to be creative with props\, no need to go out and buy them.Even if you don’t have props all can join in.Once payment is received a link for class will be sent to you.Payments VENMO\,ZELLE\,CASH OR CHECKFeel free to call \,message or email me for more info or to register for class.$40 for the month.
URL:https://yogagypsylounge.com/event/zoom-chair-yoga-165/
LOCATION:ZOOM
END:VEVENT
BEGIN:VEVENT
DTSTART;TZID=America/New_York:20240911T130000
DTEND;TZID=America/New_York:20240911T140000
DTSTAMP:20260425T181354
CREATED:20240825T192945Z
LAST-MODIFIED:20240825T192945Z
UID:3414-1726059600-1726063200@yogagypsylounge.com
SUMMARY:All Levels Yoga
DESCRIPTION:Using props like blocks\,a strap\,chair and blanket helps us practice yoga making it accessible for all. \nWe begin class seated on the floor (or a chair)  with stretches to warm ourselves up.Then moving to standing postures to work on our balance.Finishing class we’ll sit back on the floor for a few more poses and end with a  full body relaxation. \nBring your own mat\,any yoga props you may have \,dress in comfortable clothes and a bottle of water. \nTHIS CLASS IS AT THE WEST BRANCH & FREE !
URL:https://yogagypsylounge.com/event/all-levels-yoga-11/
LOCATION:West Branch Mooresville Library\, 614 Brawley School Road\, Mooresville\, NC\, 28117\, United States
END:VEVENT
END:VCALENDAR