BEGIN:VCALENDAR
VERSION:2.0
PRODID:-//Tina Marie    Yoga Gypsy - ECPv5.16.1//NONSGML v1.0//EN
CALSCALE:GREGORIAN
METHOD:PUBLISH
X-WR-CALNAME:Tina Marie    Yoga Gypsy
X-ORIGINAL-URL:https://yogagypsylounge.com
X-WR-CALDESC:Events for Tina Marie    Yoga Gypsy
BEGIN:VTIMEZONE
TZID:America/New_York
BEGIN:DAYLIGHT
TZOFFSETFROM:-0500
TZOFFSETTO:-0400
TZNAME:EDT
DTSTART:20250309T070000
END:DAYLIGHT
BEGIN:STANDARD
TZOFFSETFROM:-0400
TZOFFSETTO:-0500
TZNAME:EST
DTSTART:20251102T060000
END:STANDARD
END:VTIMEZONE
BEGIN:VEVENT
DTSTART;TZID=America/New_York:20250730T084500
DTEND;TZID=America/New_York:20250730T094500
DTSTAMP:20260425T192301
CREATED:20250626T194540Z
LAST-MODIFIED:20250626T194540Z
UID:4290-1753865100-1753868700@yogagypsylounge.com
SUMMARY:ZOOM Chair YogaFusion
DESCRIPTION:last ZOOM class for July\,sign up for AUGUST classes now!
URL:https://yogagypsylounge.com/event/zoom-chair-yogafusion-38/
LOCATION:ZOOM
END:VEVENT
END:VCALENDAR