BEGIN:VCALENDAR
VERSION:2.0
PRODID:-//Tina Marie    Yoga Gypsy - ECPv5.16.1//NONSGML v1.0//EN
CALSCALE:GREGORIAN
METHOD:PUBLISH
X-WR-CALNAME:Tina Marie    Yoga Gypsy
X-ORIGINAL-URL:https://yogagypsylounge.com
X-WR-CALDESC:Events for Tina Marie    Yoga Gypsy
BEGIN:VTIMEZONE
TZID:America/New_York
BEGIN:DAYLIGHT
TZOFFSETFROM:-0500
TZOFFSETTO:-0400
TZNAME:EDT
DTSTART:20250309T070000
END:DAYLIGHT
BEGIN:STANDARD
TZOFFSETFROM:-0400
TZOFFSETTO:-0500
TZNAME:EST
DTSTART:20251102T060000
END:STANDARD
END:VTIMEZONE
BEGIN:VEVENT
DTSTART;TZID=America/New_York:20250625T084500
DTEND;TZID=America/New_York:20250625T094500
DTSTAMP:20260423T095544
CREATED:20250524T030801Z
LAST-MODIFIED:20250524T030801Z
UID:4174-1750841100-1750844700@yogagypsylounge.com
SUMMARY:ZOOM Chair YogaFusion
DESCRIPTION:Last ZOOM Chair YogaFusion class for June\nSign up for August classes now!
URL:https://yogagypsylounge.com/event/zoom-chair-yogafusion-33/
LOCATION:ZOOM
END:VEVENT
END:VCALENDAR