BEGIN:VCALENDAR
VERSION:2.0
PRODID:-//Tina Marie    Yoga Gypsy - ECPv5.16.1//NONSGML v1.0//EN
CALSCALE:GREGORIAN
METHOD:PUBLISH
X-WR-CALNAME:Tina Marie    Yoga Gypsy
X-ORIGINAL-URL:https://yogagypsylounge.com
X-WR-CALDESC:Events for Tina Marie    Yoga Gypsy
BEGIN:VTIMEZONE
TZID:America/New_York
BEGIN:DAYLIGHT
TZOFFSETFROM:-0500
TZOFFSETTO:-0400
TZNAME:EDT
DTSTART:20250309T070000
END:DAYLIGHT
BEGIN:STANDARD
TZOFFSETFROM:-0400
TZOFFSETTO:-0500
TZNAME:EST
DTSTART:20251102T060000
END:STANDARD
END:VTIMEZONE
BEGIN:VEVENT
DTSTART;TZID=America/New_York:20250528T084500
DTEND;TZID=America/New_York:20250528T094500
DTSTAMP:20260421T082726
CREATED:20250428T171440Z
LAST-MODIFIED:20250428T172901Z
UID:4125-1748421900-1748425500@yogagypsylounge.com
SUMMARY:ZOOM Chair YogaFusion
DESCRIPTION:Last ZOOM class for the month. \nYou’ll still have access to class recording for 1 more week \nSign up for June ZOOM Chair YogaFusion classes now!
URL:https://yogagypsylounge.com/event/zoom-chair-yogafusion-32/
LOCATION:ZOOM
END:VEVENT
END:VCALENDAR