BEGIN:VCALENDAR
VERSION:2.0
PRODID:-//Tina Marie    Yoga Gypsy - ECPv5.16.1//NONSGML v1.0//EN
CALSCALE:GREGORIAN
METHOD:PUBLISH
X-WR-CALNAME:Tina Marie    Yoga Gypsy
X-ORIGINAL-URL:https://yogagypsylounge.com
X-WR-CALDESC:Events for Tina Marie    Yoga Gypsy
BEGIN:VTIMEZONE
TZID:America/New_York
BEGIN:DAYLIGHT
TZOFFSETFROM:-0500
TZOFFSETTO:-0400
TZNAME:EDT
DTSTART:20250309T070000
END:DAYLIGHT
BEGIN:STANDARD
TZOFFSETFROM:-0400
TZOFFSETTO:-0500
TZNAME:EST
DTSTART:20251102T060000
END:STANDARD
END:VTIMEZONE
BEGIN:VEVENT
DTSTART;TZID=America/New_York:20250423T084500
DTEND;TZID=America/New_York:20250423T094500
DTSTAMP:20260421T201826
CREATED:20250324T202413Z
LAST-MODIFIED:20250324T202413Z
UID:4018-1745397900-1745401500@yogagypsylounge.com
SUMMARY:ZOOM Chair YogaFusion
DESCRIPTION:Join me in a chair yoga class from the comfort of your own home.Make a commitment to yourself and health\, join in for the month of APRIL !In this fun & challenging chair yoga class\, we’ll take on traditional yoga postures and  add a twist by using a chair to assist us. The class can be as easy or as challenging as you choose.We begin seated warming the body & muscles up .Then moving into some seated light cardio. We’ll come to stand using light weights/props with low impact movements to get the heart pumping. Several yoga postures to work on balance and then come to sit once more. Cooling down and then exercise our brains!Options to modify or deepen the poses are always given making this class accessible to most.This class is LIVE  every  Wednesday morning…If you can not join in LIVE a recording of class can be sent to you and practice when you can.Make sure you have your props near by. A block\, strap\, set of light weights and tennis ball. Feel free to be creative with props\, no need to go out and buy them.Even if you don’t have props all can join in.Once payment is received a link for class will be sent to you.Payments VENMO\,ZELLE\,CASH OR CHECKFeel free to call \,message or email me for more info or to register for class. \nTHERES STILL TIME TO JOIN IN FOR APRIL
URL:https://yogagypsylounge.com/event/zoom-chair-yogafusion-26/
LOCATION:ZOOM
END:VEVENT
END:VCALENDAR