BEGIN:VCALENDAR
VERSION:2.0
PRODID:-//Tina Marie    Yoga Gypsy - ECPv5.16.1//NONSGML v1.0//EN
CALSCALE:GREGORIAN
METHOD:PUBLISH
X-WR-CALNAME:Tina Marie    Yoga Gypsy
X-ORIGINAL-URL:https://yogagypsylounge.com
X-WR-CALDESC:Events for Tina Marie    Yoga Gypsy
BEGIN:VTIMEZONE
TZID:America/New_York
BEGIN:DAYLIGHT
TZOFFSETFROM:-0500
TZOFFSETTO:-0400
TZNAME:EDT
DTSTART:20240310T070000
END:DAYLIGHT
BEGIN:STANDARD
TZOFFSETFROM:-0400
TZOFFSETTO:-0500
TZNAME:EST
DTSTART:20241103T060000
END:STANDARD
END:VTIMEZONE
BEGIN:VEVENT
DTSTART;TZID=America/New_York:20241007T190000
DTEND;TZID=America/New_York:20241007T194500
DTSTAMP:20260423T170759
CREATED:20240922T204443Z
LAST-MODIFIED:20240922T205021Z
UID:3548-1728327600-1728330300@yogagypsylounge.com
SUMMARY:STRENGTHEN your Pelvic Floor ~ Health & Wellness  Education series/INTRO CLASS
DESCRIPTION:MORE INFO TO COME \nJoin me in a 6-week series where we will learn exercises to help strengthen our pelvic floor. \nThis series is part education with weekly meet up classes. You will also have access to online materials. \nAll registered for class have full access to Curves circuit\, even if you’re NOT a member! \nNo need to be a Curves member to take the series. \nThis first class is FREE to attend. \nJoin me & coach Marie this evening well talk pelvic floor health and what to expect in the next 6 weeks. \n  \n 
URL:https://yogagypsylounge.com/event/strengthen-your-pelvic-floor-health-wellness-education-series-intro-class/
LOCATION:Curves\, 603 N Main St\, Mooresville\, NC\, 28115\, United States
END:VEVENT
END:VCALENDAR