BEGIN:VCALENDAR
VERSION:2.0
PRODID:-//Tina Marie    Yoga Gypsy - ECPv5.16.1//NONSGML v1.0//EN
CALSCALE:GREGORIAN
METHOD:PUBLISH
X-WR-CALNAME:Tina Marie    Yoga Gypsy
X-ORIGINAL-URL:https://yogagypsylounge.com
X-WR-CALDESC:Events for Tina Marie    Yoga Gypsy
BEGIN:VTIMEZONE
TZID:America/New_York
BEGIN:DAYLIGHT
TZOFFSETFROM:-0500
TZOFFSETTO:-0400
TZNAME:EDT
DTSTART:20250309T070000
END:DAYLIGHT
BEGIN:STANDARD
TZOFFSETFROM:-0400
TZOFFSETTO:-0500
TZNAME:EST
DTSTART:20251102T060000
END:STANDARD
END:VTIMEZONE
BEGIN:VEVENT
DTSTART;TZID=America/New_York:20250106T093000
DTEND;TZID=America/New_York:20250106T103000
DTSTAMP:20260423T050353
CREATED:20241226T193211Z
LAST-MODIFIED:20250103T224920Z
UID:3770-1736155800-1736159400@yogagypsylounge.com
SUMMARY:Private Community Class
DESCRIPTION:Private community class at the clubhouse \n 
URL:https://yogagypsylounge.com/event/private-community-class/
LOCATION:Homestead at the Farms\, 420 Agnew Road\, Mooresville\, NC\, 28117\, United States
END:VEVENT
END:VCALENDAR