BEGIN:VCALENDAR
VERSION:2.0
PRODID:-//Tina Marie    Yoga Gypsy - ECPv5.16.1//NONSGML v1.0//EN
CALSCALE:GREGORIAN
METHOD:PUBLISH
X-WR-CALNAME:Tina Marie    Yoga Gypsy
X-ORIGINAL-URL:https://yogagypsylounge.com
X-WR-CALDESC:Events for Tina Marie    Yoga Gypsy
BEGIN:VTIMEZONE
TZID:America/New_York
BEGIN:DAYLIGHT
TZOFFSETFROM:-0500
TZOFFSETTO:-0400
TZNAME:EDT
DTSTART:20250309T070000
END:DAYLIGHT
BEGIN:STANDARD
TZOFFSETFROM:-0400
TZOFFSETTO:-0500
TZNAME:EST
DTSTART:20251102T060000
END:STANDARD
END:VTIMEZONE
BEGIN:VEVENT
DTSTART;TZID=America/New_York:20250304T121500
DTEND;TZID=America/New_York:20250304T130000
DTSTAMP:20260425T085741
CREATED:20250225T205113Z
LAST-MODIFIED:20250225T205113Z
UID:3979-1741090500-1741093200@yogagypsylounge.com
SUMMARY:Mid Day Refresh
DESCRIPTION:Recharge your body and mind with the 45 minute midday yoga class.\nGentle stretching & deep breathing will assist in relieving stress\,improve focus and energize the body.A short relaxation at the end of class will allow you to leave feeling refreshed and ready to take on the afternoon. \nOption to sit in a chair or on the floor on a yoga mat.
URL:https://yogagypsylounge.com/event/mid-day-refresh/
LOCATION:Black Sheep Yoga\, 129 N Main Street\, Mocksville\, NC\, 27028\, United States
END:VEVENT
END:VCALENDAR