BEGIN:VCALENDAR
VERSION:2.0
PRODID:-//Tina Marie    Yoga Gypsy - ECPv5.16.1//NONSGML v1.0//EN
CALSCALE:GREGORIAN
METHOD:PUBLISH
X-WR-CALNAME:Tina Marie    Yoga Gypsy
X-ORIGINAL-URL:https://yogagypsylounge.com
X-WR-CALDESC:Events for Tina Marie    Yoga Gypsy
BEGIN:VTIMEZONE
TZID:America/New_York
BEGIN:DAYLIGHT
TZOFFSETFROM:-0500
TZOFFSETTO:-0400
TZNAME:EDT
DTSTART:20250309T070000
END:DAYLIGHT
BEGIN:STANDARD
TZOFFSETFROM:-0400
TZOFFSETTO:-0500
TZNAME:EST
DTSTART:20251102T060000
END:STANDARD
END:VTIMEZONE
BEGIN:VEVENT
DTSTART;TZID=America/New_York:20250422T121500
DTEND;TZID=America/New_York:20250422T130000
DTSTAMP:20260422T004209
CREATED:20250324T192218Z
LAST-MODIFIED:20250324T192218Z
UID:4008-1745324100-1745326800@yogagypsylounge.com
SUMMARY:*Mid Day Refresh
DESCRIPTION:*Lydia is subbing for me today \nTake a break\,refresh your body & mind with a 45 minute mid day yoga class. \nGentle stretches with mindful breathing allows you to relieve stress\,improve concentration and energize the body. \nA short relaxation at the end of class will leave you feeling rejuvenated and ready to take on the rest of your day. \nPLEASE SIGN UP THROUGH BLACK SHEEP YOGA WEBSITE
URL:https://yogagypsylounge.com/event/mid-day-refresh-7/
LOCATION:Black Sheep Yoga\, 129 N Main Street\, Mocksville\, NC\, 27028\, United States
END:VEVENT
END:VCALENDAR