BEGIN:VCALENDAR
VERSION:2.0
PRODID:-//Tina Marie    Yoga Gypsy - ECPv5.16.1//NONSGML v1.0//EN
CALSCALE:GREGORIAN
METHOD:PUBLISH
X-WR-CALNAME:Tina Marie    Yoga Gypsy
X-ORIGINAL-URL:https://yogagypsylounge.com
X-WR-CALDESC:Events for Tina Marie    Yoga Gypsy
BEGIN:VTIMEZONE
TZID:America/New_York
BEGIN:DAYLIGHT
TZOFFSETFROM:-0500
TZOFFSETTO:-0400
TZNAME:EDT
DTSTART:20250309T070000
END:DAYLIGHT
BEGIN:STANDARD
TZOFFSETFROM:-0400
TZOFFSETTO:-0500
TZNAME:EST
DTSTART:20251102T060000
END:STANDARD
END:VTIMEZONE
BEGIN:VEVENT
DTSTART;TZID=America/New_York:20250227T133000
DTEND;TZID=America/New_York:20250227T142000
DTSTAMP:20260425T132804
CREATED:20250125T183205Z
LAST-MODIFIED:20250125T183205Z
UID:3842-1740663000-1740666000@yogagypsylounge.com
SUMMARY:Meditation
DESCRIPTION:Take some time to drop in\,tune out and relax with a  meditation practice. \nClass with start with a grounding and relaxation. Using techniques such as breathwork\,tapping and/or gentle stretches. \nA guided meditation will follow with sound healing and/or Reiki. \nEach class will uniquely be its own with the goal of complete relaxation. \nNo meditation experience required\,all welcomed. \nOption to sit in a chair or lay down on a mat. \n***NON Curves members $10 drop in or 5 class card for $40 with 3 month expiration. \n***Curves members $8 drop in or 5 class card for $35 with 3 month expiration.
URL:https://yogagypsylounge.com/event/meditation-6/
LOCATION:Curves\, 603 N Main St\, Mooresville\, NC\, 28115\, United States
END:VEVENT
END:VCALENDAR