BEGIN:VCALENDAR
VERSION:2.0
PRODID:-//Tina Marie    Yoga Gypsy - ECPv5.16.1//NONSGML v1.0//EN
CALSCALE:GREGORIAN
METHOD:PUBLISH
X-WR-CALNAME:Tina Marie    Yoga Gypsy
X-ORIGINAL-URL:https://yogagypsylounge.com
X-WR-CALDESC:Events for Tina Marie    Yoga Gypsy
BEGIN:VTIMEZONE
TZID:America/New_York
BEGIN:DAYLIGHT
TZOFFSETFROM:-0500
TZOFFSETTO:-0400
TZNAME:EDT
DTSTART:20250309T070000
END:DAYLIGHT
BEGIN:STANDARD
TZOFFSETFROM:-0400
TZOFFSETTO:-0500
TZNAME:EST
DTSTART:20251102T060000
END:STANDARD
END:VTIMEZONE
BEGIN:VEVENT
DTSTART;TZID=America/New_York:20250728T090000
DTEND;TZID=America/New_York:20250728T113000
DTSTAMP:20260425T153157
CREATED:20250626T192608Z
LAST-MODIFIED:20250626T192608Z
UID:4268-1753693200-1753702200@yogagypsylounge.com
SUMMARY:Kids Camp
DESCRIPTION:
URL:https://yogagypsylounge.com/event/kids-camp-9/
LOCATION:Selma Burke Community Center\, 781 Agape Drive\, Mooresville\, NC\, 28117\, United States
END:VEVENT
END:VCALENDAR