BEGIN:VCALENDAR
VERSION:2.0
PRODID:-//Tina Marie    Yoga Gypsy - ECPv5.16.1//NONSGML v1.0//EN
CALSCALE:GREGORIAN
METHOD:PUBLISH
X-WR-CALNAME:Tina Marie    Yoga Gypsy
X-ORIGINAL-URL:https://yogagypsylounge.com
X-WR-CALDESC:Events for Tina Marie    Yoga Gypsy
BEGIN:VTIMEZONE
TZID:America/New_York
BEGIN:DAYLIGHT
TZOFFSETFROM:-0500
TZOFFSETTO:-0400
TZNAME:EDT
DTSTART:20250309T070000
END:DAYLIGHT
BEGIN:STANDARD
TZOFFSETFROM:-0400
TZOFFSETTO:-0500
TZNAME:EST
DTSTART:20251102T060000
END:STANDARD
END:VTIMEZONE
BEGIN:VEVENT
DTSTART;TZID=America/New_York:20250523T100000
DTEND;TZID=America/New_York:20250523T110000
DTSTAMP:20260421T042311
CREATED:20250428T163028Z
LAST-MODIFIED:20250428T163028Z
UID:4102-1747994400-1747998000@yogagypsylounge.com
SUMMARY:Chair Yoga at the Library
DESCRIPTION:Join in for a FREE\, fun accessible chair yoga class 4 EVERY BODY! \nCLASS STARTS AT 10\,PLEASE ARRIVE A FEW MINUTES PRIOR \n\nDon’t forget we’re now downstairs
URL:https://yogagypsylounge.com/event/chair-yoga-at-the-library-58/
LOCATION:Mooresville Public Library\, 304 S Main St\, Mooresville\, NC\, 28117\, United States
END:VEVENT
END:VCALENDAR