BEGIN:VCALENDAR
VERSION:2.0
PRODID:-//Tina Marie    Yoga Gypsy - ECPv5.16.1//NONSGML v1.0//EN
CALSCALE:GREGORIAN
METHOD:PUBLISH
X-WR-CALNAME:Tina Marie    Yoga Gypsy
X-ORIGINAL-URL:https://yogagypsylounge.com
X-WR-CALDESC:Events for Tina Marie    Yoga Gypsy
BEGIN:VTIMEZONE
TZID:America/New_York
BEGIN:DAYLIGHT
TZOFFSETFROM:-0500
TZOFFSETTO:-0400
TZNAME:EDT
DTSTART:20250309T070000
END:DAYLIGHT
BEGIN:STANDARD
TZOFFSETFROM:-0400
TZOFFSETTO:-0500
TZNAME:EST
DTSTART:20251102T060000
END:STANDARD
END:VTIMEZONE
BEGIN:VEVENT
DTSTART;TZID=America/New_York:20250326T130000
DTEND;TZID=America/New_York:20250326T140000
DTSTAMP:20260423T183814
CREATED:20250222T184535Z
LAST-MODIFIED:20250222T192142Z
UID:3917-1742994000-1742997600@yogagypsylounge.com
SUMMARY:All Levels/Restorative Yoga
DESCRIPTION:***Last  Class Of Each Month  Is RESTORATIVE YOGA! \nBRING YOUR PILLOWS\,BLANKETS AND/OR BOLSTERS \n  \nThis class will be done entirely on the floor.Using props such as blankets\,pillows\,bolsters and blocks. We’ll find our way into relaxing postures finding stillness  & sitting in each pose for several minutes. \nThis class is a great reset or end of the month let go! Tapping into our nervous system we will  relax the mind and body. \nBring your own mat\,any yoga props you may have \,dress in comfortable clothes and a bottle of water. \nTHIS CLASS IS AT THE WEST BRANCH & FREE !
URL:https://yogagypsylounge.com/event/all-levels-25/
LOCATION:West Branch Mooresville Library\, 614 Brawley School Road\, Mooresville\, NC\, 28117\, United States
END:VEVENT
END:VCALENDAR